BEGIN:VCALENDAR
VERSION:2.0
PRODID:-//Lehigh Gap Nature Center - ECPv6.15.20//NONSGML v1.0//EN
CALSCALE:GREGORIAN
METHOD:PUBLISH
X-ORIGINAL-URL:https://lgnc.org
X-WR-CALDESC:Events for Lehigh Gap Nature Center
REFRESH-INTERVAL;VALUE=DURATION:PT1H
X-Robots-Tag:noindex
X-PUBLISHED-TTL:PT1H
BEGIN:VTIMEZONE
TZID:America/New_York
BEGIN:DAYLIGHT
TZOFFSETFROM:-0500
TZOFFSETTO:-0400
TZNAME:EDT
DTSTART:20250309T070000
END:DAYLIGHT
BEGIN:STANDARD
TZOFFSETFROM:-0400
TZOFFSETTO:-0500
TZNAME:EST
DTSTART:20251102T060000
END:STANDARD
BEGIN:DAYLIGHT
TZOFFSETFROM:-0500
TZOFFSETTO:-0400
TZNAME:EDT
DTSTART:20260308T070000
END:DAYLIGHT
BEGIN:STANDARD
TZOFFSETFROM:-0400
TZOFFSETTO:-0500
TZNAME:EST
DTSTART:20261101T060000
END:STANDARD
BEGIN:DAYLIGHT
TZOFFSETFROM:-0500
TZOFFSETTO:-0400
TZNAME:EDT
DTSTART:20270314T070000
END:DAYLIGHT
BEGIN:STANDARD
TZOFFSETFROM:-0400
TZOFFSETTO:-0500
TZNAME:EST
DTSTART:20271107T060000
END:STANDARD
END:VTIMEZONE
BEGIN:VEVENT
DTSTART;TZID=America/New_York:20260506T161500
DTEND;TZID=America/New_York:20260506T171500
DTSTAMP:20260423T111716
CREATED:20260402T184630Z
LAST-MODIFIED:20260402T185356Z
UID:10722-1778084100-1778087700@lgnc.org
SUMMARY:Ecology Club for Kids
DESCRIPTION:LGNC’s Ecology Club is open to children ages 9 and older. Join us after school on the first Wednesday of every month for fun\, hands-on nature adventures at the Osprey House and the Lehigh Gap Wildlife Refuge. \nParticipation is FREE to all LGNC members and their families! Not a member? Click here to find out how to join today: https://lgnc.org/join-renew-give/ \nEmail riley.davenport@lgnc.org if you are interested in attending and have questions! \n4:15-5:15pm \n2025-2026 Dates:\nSeptember 3\nOctober 1\nNovember 5\nDecember 3\nJanuary 7\nFebruary 4\nMarch 4\nApril 1\nMay 6\nJune 3
URL:https://lgnc.org/event/ecology-club-for-kids/
ATTACH;FMTTYPE=image/jpeg:https://lgnc.org/wp-content/uploads/2026/04/Square-Event-Graphics-3.jpg
END:VEVENT
BEGIN:VEVENT
DTSTART;TZID=America/New_York:20260509T080000
DTEND;TZID=America/New_York:20260509T100000
DTSTAMP:20260423T111716
CREATED:20260402T183625Z
LAST-MODIFIED:20260402T183625Z
UID:10718-1778313600-1778320800@lgnc.org
SUMMARY:Warbler Walk with Terry Master
DESCRIPTION:Description: Join Ornithologist and LGNC Board Member Terry Master on a Warbler Walk at LGNC! Although these walks will be geared toward beginner birders\, people of all ages and experience levels are welcome to attend. Some portions of the walk may be steep or rocky\, please wear closed toe shoes that are fit for hiking. If there is inclement weather\, program will be postponed to Sunday May 10th. \nFee: LGNC members: FREE | Non-members: $5 per person \nRegistration: Please register online through Zeffy at this link! \nTo become a member\, please visit our Square store at this link! \nQuestions? Contact us at mail@lgnc.org or 610-760-8889.
URL:https://lgnc.org/event/warbler-walk-with-terry-master/
ATTACH;FMTTYPE=image/jpeg:https://lgnc.org/wp-content/uploads/2026/04/Square-Event-Graphics-1.jpg
END:VEVENT
BEGIN:VEVENT
DTSTART;TZID=America/New_York:20260511T100000
DTEND;TZID=America/New_York:20260511T120000
DTSTAMP:20260423T111716
CREATED:20260403T132542Z
LAST-MODIFIED:20260403T132542Z
UID:10767-1778493600-1778500800@lgnc.org
SUMMARY:Nature-minded Senior Sessions
DESCRIPTION:The Nature-minded Senior Sessions seek to bring together LGNC members for fellowship and conversations about nature\, conservation\, and other topics. Each session will include coffee/tea\, refreshments\, and a time for socializing. This will be followed by a brief presentation about a topic of interest and an open forum discussion among the group members. \nThe sessions will be held in the Great Hall at the Osprey House on the second Monday of each month from 9:00 to 10:30 a.m. There is no fee to attend the session as it is benefit of membership with LGNC\, and no registration is required to attend. \nIf you have any questions regarding this new event\, please email Dan Kunkle at dkunkle@ptd.net for more information. Thanks\, we hope to see you there!
URL:https://lgnc.org/event/nature-minded-senior-sessions-2/
ATTACH;FMTTYPE=image/jpeg:https://lgnc.org/wp-content/uploads/2026/04/Square-Event-Graphics1.jpg
END:VEVENT
BEGIN:VEVENT
DTSTART;TZID=America/New_York:20260513T100000
DTEND;TZID=America/New_York:20260513T120000
DTSTAMP:20260423T111716
CREATED:20260416T184246Z
LAST-MODIFIED:20260416T184246Z
UID:10920-1778666400-1778673600@lgnc.org
SUMMARY:Nature in Art Club - Drop-in Studio
DESCRIPTION:Nature in Art Club members are invited to join us the 2nd Wednesday of each month from 10:00am to 12:00pm for a Drop-In Studio. Bring a personal art project to work on (all mediums are welcome!) and enjoy conversation with fellow local artists. During the warmer months\, we have portable easels available to borrow for plein-air painting outside the Osprey House! \nThe Nature in Art Club is a free benefit of a Lehigh Gap Nature Center membership. Click the link below to join the Art Club email list- get early access to art related events\, and get updates about our annual art show\, club meetings\, and more! https://forms.gle/QwqvP7AdBtGTchNp6 \nThe Drop-in Studio is free to attend and registration is not required. To join the Art Club and attend a Drop-in Studio\, click here to become an LGNC Member first! \nQuestions? Contact us at artclub@lgnc.org or 610-760-8889.
URL:https://lgnc.org/event/nature-in-art-club-drop-in-studio/
ATTACH;FMTTYPE=image/webp:https://lgnc.org/wp-content/uploads/2026/04/Square-Event-Graphics-2026-04-16T141930.028.webp
END:VEVENT
BEGIN:VEVENT
DTSTART;TZID=America/New_York:20260528T170000
DTEND;TZID=America/New_York:20260528T200000
DTSTAMP:20260423T111716
CREATED:20260416T191115Z
LAST-MODIFIED:20260416T191115Z
UID:10936-1779987600-1779998400@lgnc.org
SUMMARY:Lehigh Gap Bike Tour
DESCRIPTION:Pack up your bike and explore the D&L Trail with LGNC Board Member Brandon Fogal! The Lehigh Gap Bike Tour will begin at Lehigh Gap Nature Center’s Osprey House (8844 Paint Mill Road\, Slatington) and go up to Weissport and back\, totaling about 15 miles round trip. We will make stops along the way to learn about local history and ecology. (If there is heavy rain or thunderstorms in the forecast\, this event will be postponed to June 4) \nThe trip includes a professional guide\, and participants must bring their own bikes and helmets as these items will not be provided. Please bring a backpack with water and a snack\, and be sure to pack some cash to stop for ice cream on the way back!  This activity is family-friendly. However\, the recommended minimum age to participate is 10. Registration is required and spots are limited. \nFee: LGNC members: $15 per person | Non-members: $20 per person \nRegistration: Click here to register for this event! \nTo become a member\, please visit our Square store at this link! \nQuestions? Contact us at mail@lgnc.org or 610-760-8889.
URL:https://lgnc.org/event/lehigh-gap-bike-tour/
ATTACH;FMTTYPE=image/webp:https://lgnc.org/wp-content/uploads/2026/04/Square-Event-Graphics-2026-04-13T135120.371.webp
END:VEVENT
END:VCALENDAR