BEGIN:VCALENDAR
VERSION:2.0
PRODID:-//Lehigh Gap Nature Center - ECPv6.15.20//NONSGML v1.0//EN
CALSCALE:GREGORIAN
METHOD:PUBLISH
X-WR-CALNAME:Lehigh Gap Nature Center
X-ORIGINAL-URL:https://lgnc.org
X-WR-CALDESC:Events for Lehigh Gap Nature Center
REFRESH-INTERVAL;VALUE=DURATION:PT1H
X-Robots-Tag:noindex
X-PUBLISHED-TTL:PT1H
BEGIN:VTIMEZONE
TZID:America/New_York
BEGIN:DAYLIGHT
TZOFFSETFROM:-0500
TZOFFSETTO:-0400
TZNAME:EDT
DTSTART:20250309T070000
END:DAYLIGHT
BEGIN:STANDARD
TZOFFSETFROM:-0400
TZOFFSETTO:-0500
TZNAME:EST
DTSTART:20251102T060000
END:STANDARD
BEGIN:DAYLIGHT
TZOFFSETFROM:-0500
TZOFFSETTO:-0400
TZNAME:EDT
DTSTART:20260308T070000
END:DAYLIGHT
BEGIN:STANDARD
TZOFFSETFROM:-0400
TZOFFSETTO:-0500
TZNAME:EST
DTSTART:20261101T060000
END:STANDARD
BEGIN:DAYLIGHT
TZOFFSETFROM:-0500
TZOFFSETTO:-0400
TZNAME:EDT
DTSTART:20270314T070000
END:DAYLIGHT
BEGIN:STANDARD
TZOFFSETFROM:-0400
TZOFFSETTO:-0500
TZNAME:EST
DTSTART:20271107T060000
END:STANDARD
BEGIN:DAYLIGHT
TZOFFSETFROM:-0500
TZOFFSETTO:-0400
TZNAME:EDT
DTSTART:20280312T070000
END:DAYLIGHT
BEGIN:STANDARD
TZOFFSETFROM:-0400
TZOFFSETTO:-0500
TZNAME:EST
DTSTART:20281105T060000
END:STANDARD
END:VTIMEZONE
BEGIN:VEVENT
DTSTART;TZID=America/New_York:20260804T083000
DTEND;TZID=America/New_York:20260804T153000
DTSTAMP:20260423T193310
CREATED:20260402T212442Z
LAST-MODIFIED:20260402T212510Z
UID:10739-1785832200-1785857400@lgnc.org
SUMMARY:Ecology Camp
DESCRIPTION:LGNC’s Ecology Camp is a 4-day summer day camp for youth currently in grades 3-6 who are interested in nature and the outdoors. Campers will investigate a different area of ecology each day as we explore the Kittatinny Ridge and other natural areas. \nFee: $150 for LGNC Members / $175 for LGNC Non-members \nThe 2026 camp will take place August 4-7th\, 8:30am-3:30pm. \nPlease register online at this link:2026 Ecology Camp \n  \n\nFinancial aid is available upon request. Click here to request a summer camp subsidy. \n\nPlease contact us at mail@lgnc.org if you have any questions!
URL:https://lgnc.org/event/ecology-camp/
ATTACH;FMTTYPE=image/jpeg:https://lgnc.org/wp-content/uploads/2026/04/2.jpg
END:VEVENT
BEGIN:VEVENT
DTSTART;TZID=America/New_York:20260805T083000
DTEND;TZID=America/New_York:20260805T153000
DTSTAMP:20260423T193310
CREATED:20260402T212532Z
LAST-MODIFIED:20260402T212532Z
UID:10742-1785918600-1785943800@lgnc.org
SUMMARY:Ecology Camp
DESCRIPTION:LGNC’s Ecology Camp is a 4-day summer day camp for youth currently in grades 3-6 who are interested in nature and the outdoors. Campers will investigate a different area of ecology each day as we explore the Kittatinny Ridge and other natural areas. \nFee: $150 for LGNC Members / $175 for LGNC Non-members \nThe 2026 camp will take place August 4-7th\, 8:30am-3:30pm. \nPlease register online at this link:2026 Ecology Camp \n  \n\nFinancial aid is available upon request. Click here to request a summer camp subsidy. \n\nPlease contact us at mail@lgnc.org if you have any questions!
URL:https://lgnc.org/event/ecology-camp-2/
ATTACH;FMTTYPE=image/jpeg:https://lgnc.org/wp-content/uploads/2026/04/2.jpg
END:VEVENT
BEGIN:VEVENT
DTSTART;TZID=America/New_York:20260806T083000
DTEND;TZID=America/New_York:20260806T153000
DTSTAMP:20260423T193310
CREATED:20260402T212600Z
LAST-MODIFIED:20260402T212600Z
UID:10744-1786005000-1786030200@lgnc.org
SUMMARY:Ecology Camp
DESCRIPTION:LGNC’s Ecology Camp is a 4-day summer day camp for youth currently in grades 3-6 who are interested in nature and the outdoors. Campers will investigate a different area of ecology each day as we explore the Kittatinny Ridge and other natural areas. \nFee: $150 for LGNC Members / $175 for LGNC Non-members \nThe 2026 camp will take place August 4-7th\, 8:30am-3:30pm. \nPlease register online at this link:2026 Ecology Camp \n  \n\nFinancial aid is available upon request. Click here to request a summer camp subsidy. \n\nPlease contact us at mail@lgnc.org if you have any questions!
URL:https://lgnc.org/event/ecology-camp-3/
ATTACH;FMTTYPE=image/jpeg:https://lgnc.org/wp-content/uploads/2026/04/2.jpg
END:VEVENT
BEGIN:VEVENT
DTSTART;TZID=America/New_York:20260807T083000
DTEND;TZID=America/New_York:20260807T153000
DTSTAMP:20260423T193310
CREATED:20260402T212625Z
LAST-MODIFIED:20260402T212625Z
UID:10746-1786091400-1786116600@lgnc.org
SUMMARY:Ecology Camp
DESCRIPTION:LGNC’s Ecology Camp is a 4-day summer day camp for youth currently in grades 3-6 who are interested in nature and the outdoors. Campers will investigate a different area of ecology each day as we explore the Kittatinny Ridge and other natural areas. \nFee: $150 for LGNC Members / $175 for LGNC Non-members \nThe 2026 camp will take place August 4-7th\, 8:30am-3:30pm. \nPlease register online at this link:2026 Ecology Camp \n  \n\nFinancial aid is available upon request. Click here to request a summer camp subsidy. \n\nPlease contact us at mail@lgnc.org if you have any questions!
URL:https://lgnc.org/event/ecology-camp-4/
ATTACH;FMTTYPE=image/jpeg:https://lgnc.org/wp-content/uploads/2026/04/2.jpg
END:VEVENT
BEGIN:VEVENT
DTSTART;TZID=America/New_York:20260810T100000
DTEND;TZID=America/New_York:20260810T120000
DTSTAMP:20260423T193310
CREATED:20260403T194122Z
LAST-MODIFIED:20260403T194122Z
UID:10774-1786356000-1786363200@lgnc.org
SUMMARY:Nature-minded Senior Sessions
DESCRIPTION:The Nature-minded Senior Sessions seek to bring together LGNC members for fellowship and conversations about nature\, conservation\, and other topics. Each session will include coffee/tea\, refreshments\, and a time for socializing. This will be followed by a brief presentation about a topic of interest and an open forum discussion among the group members. \nThe sessions will be held in the Great Hall at the Osprey House on the second Monday of each month from 9:00 to 10:30 a.m. There is no fee to attend the session as it is benefit of membership with LGNC\, and no registration is required to attend. \nIf you have any questions regarding this new event\, please email Dan Kunkle at dkunkle@ptd.net for more information. Thanks\, we hope to see you there!
URL:https://lgnc.org/event/nature-minded-senior-sessions-5/
ATTACH;FMTTYPE=image/jpeg:https://lgnc.org/wp-content/uploads/2026/04/Square-Event-Graphics1.jpg
END:VEVENT
BEGIN:VEVENT
DTSTART;TZID=America/New_York:20260812T100000
DTEND;TZID=America/New_York:20260812T120000
DTSTAMP:20260423T193310
CREATED:20260416T184550Z
LAST-MODIFIED:20260416T184550Z
UID:10927-1786528800-1786536000@lgnc.org
SUMMARY:Nature in Art Club - Drop-in Studio
DESCRIPTION:Nature in Art Club members are invited to join us the 2nd Wednesday of each month from 10:00am to 12:00pm for a Drop-In Studio. Bring a personal art project to work on (all mediums are welcome!) and enjoy conversation with fellow local artists. During the warmer months\, we have portable easels available to borrow for plein-air painting outside the Osprey House! \nThe Nature in Art Club is a free benefit of a Lehigh Gap Nature Center membership. Click the link below to join the Art Club email list- get early access to art related events\, and get updates about our annual art show\, club meetings\, and more! https://forms.gle/QwqvP7AdBtGTchNp6 \nThe Drop-in Studio is free to attend and registration is not required. To join the Art Club and attend a Drop-in Studio\, click here to become an LGNC Member first! \nQuestions? Contact us at artclub@lgnc.org or 610-760-8889.
URL:https://lgnc.org/event/nature-in-art-club-drop-in-studio-4/
ATTACH;FMTTYPE=image/webp:https://lgnc.org/wp-content/uploads/2026/04/Square-Event-Graphics-2026-04-16T141930.028.webp
END:VEVENT
BEGIN:VEVENT
DTSTART;TZID=America/New_York:20260813T193000
DTEND;TZID=America/New_York:20260813T210000
DTSTAMP:20260423T193310
CREATED:20260416T194131Z
LAST-MODIFIED:20260416T194131Z
UID:10962-1786649400-1786654800@lgnc.org
SUMMARY:Sunset Hike at Lehigh Gap
DESCRIPTION:You are invited to explore the trails at Lehigh Gap Nature Center on a guided hike at sunset! Join LGNC Staff member for a moderate level guided hike on LGNC trails. The hike will begin on the LNE trail for one mile\, and participants will return back to the nature center on the D&L Trail for one mile\, for a total distance of 2.2 miles. The beginning of the hike is steep and rocky\, but the remainder of the hike is mostly flat or downhill; closed toed hiking shoes are recommended. It will become dark as we return from this hike\, so participants are welcome to bring a headlamp or flashlight if you have one\, but it is not necessary. Learn more about our trails at this link: Trail Map and Guides | Lehigh Gap Nature Center (lgnc.org) \nPLEASE NOTE: Please arrive at LGNC’s Osprey House (8844 Paint Mill Road\, Slatington) ready to hike at 7:30pm. Please wear closed-toe hiking boots and dress for the weather. Participants are also encouraged to pack water and snacks. \nRegistration: Click here to register for this event! \nFee: LGNC members: FREE | Non-members: $5 per person \nQuestions? Contact us at mail@lgnc.org or 610-760-8889.
URL:https://lgnc.org/event/sunset-hike-at-lehigh-gap/
ATTACH;FMTTYPE=image/webp:https://lgnc.org/wp-content/uploads/2026/04/Square-Event-Graphics-2026-04-14T105009.401.webp
END:VEVENT
BEGIN:VEVENT
DTSTART;TZID=America/New_York:20260829T110000
DTEND;TZID=America/New_York:20260829T143000
DTSTAMP:20260423T193310
CREATED:20260416T191533Z
LAST-MODIFIED:20260416T191533Z
UID:10940-1788001200-1788013800@lgnc.org
SUMMARY:Member & Volunteer Picnic
DESCRIPTION:You’re invited to this year’s Member & Volunteer Picnic! LGNC members and volunteers are invited to enjoy an afternoon of food and fellowship! All food\, beverages\, and dessert will be provided. \nPlease RSVP by August 9th to let us know you are coming! \nClick here to RSVP! \nTo become a member\, please visit our Square store at this link! \nQuestions? Contact us at mail@lgnc.org or 610-760-8889.
URL:https://lgnc.org/event/member-volunteer-picnic/
ATTACH;FMTTYPE=image/webp:https://lgnc.org/wp-content/uploads/2026/04/Square-Event-Graphics-2026-04-13T145404.880.webp
END:VEVENT
BEGIN:VEVENT
DTSTART;TZID=America/New_York:20260909T100000
DTEND;TZID=America/New_York:20260909T120000
DTSTAMP:20260423T193310
CREATED:20260416T185223Z
LAST-MODIFIED:20260416T185223Z
UID:10929-1788948000-1788955200@lgnc.org
SUMMARY:Nature in Art Club - Drop-in Studio
DESCRIPTION:Nature in Art Club members are invited to join us the 2nd Wednesday of each month from 10:00am to 12:00pm for a Drop-In Studio. Bring a personal art project to work on (all mediums are welcome!) and enjoy conversation with fellow local artists. During the warmer months\, we have portable easels available to borrow for plein-air painting outside the Osprey House! \nThe Nature in Art Club is a free benefit of a Lehigh Gap Nature Center membership. Click the link below to join the Art Club email list- get early access to art related events\, and get updates about our annual art show\, club meetings\, and more! https://forms.gle/QwqvP7AdBtGTchNp6 \nThe Drop-in Studio is free to attend and registration is not required. To join the Art Club and attend a Drop-in Studio\, click here to become an LGNC Member first! \nQuestions? Contact us at artclub@lgnc.org or 610-760-8889.
URL:https://lgnc.org/event/nature-in-art-club-drop-in-studio-5/
ATTACH;FMTTYPE=image/webp:https://lgnc.org/wp-content/uploads/2026/04/Square-Event-Graphics-2026-04-16T141930.028.webp
END:VEVENT
BEGIN:VEVENT
DTSTART;TZID=America/New_York:20260914T100000
DTEND;TZID=America/New_York:20260914T120000
DTSTAMP:20260423T193310
CREATED:20260403T194151Z
LAST-MODIFIED:20260403T194151Z
UID:10776-1789380000-1789387200@lgnc.org
SUMMARY:Nature-minded Senior Sessions
DESCRIPTION:The Nature-minded Senior Sessions seek to bring together LGNC members for fellowship and conversations about nature\, conservation\, and other topics. Each session will include coffee/tea\, refreshments\, and a time for socializing. This will be followed by a brief presentation about a topic of interest and an open forum discussion among the group members. \nThe sessions will be held in the Great Hall at the Osprey House on the second Monday of each month from 9:00 to 10:30 a.m. There is no fee to attend the session as it is benefit of membership with LGNC\, and no registration is required to attend. \nIf you have any questions regarding this new event\, please email Dan Kunkle at dkunkle@ptd.net for more information. Thanks\, we hope to see you there!
URL:https://lgnc.org/event/nature-minded-senior-sessions-6/
ATTACH;FMTTYPE=image/jpeg:https://lgnc.org/wp-content/uploads/2026/04/Square-Event-Graphics1.jpg
END:VEVENT
BEGIN:VEVENT
DTSTART;TZID=America/New_York:20261012T100000
DTEND;TZID=America/New_York:20261012T120000
DTSTAMP:20260423T193310
CREATED:20260403T194226Z
LAST-MODIFIED:20260403T194226Z
UID:10778-1791799200-1791806400@lgnc.org
SUMMARY:Nature-minded Senior Sessions
DESCRIPTION:The Nature-minded Senior Sessions seek to bring together LGNC members for fellowship and conversations about nature\, conservation\, and other topics. Each session will include coffee/tea\, refreshments\, and a time for socializing. This will be followed by a brief presentation about a topic of interest and an open forum discussion among the group members. \nThe sessions will be held in the Great Hall at the Osprey House on the second Monday of each month from 9:00 to 10:30 a.m. There is no fee to attend the session as it is benefit of membership with LGNC\, and no registration is required to attend. \nIf you have any questions regarding this new event\, please email Dan Kunkle at dkunkle@ptd.net for more information. Thanks\, we hope to see you there!
URL:https://lgnc.org/event/nature-minded-senior-sessions-7/
ATTACH;FMTTYPE=image/jpeg:https://lgnc.org/wp-content/uploads/2026/04/Square-Event-Graphics1.jpg
END:VEVENT
BEGIN:VEVENT
DTSTART;TZID=America/New_York:20261109T100000
DTEND;TZID=America/New_York:20261109T120000
DTSTAMP:20260423T193310
CREATED:20260403T194257Z
LAST-MODIFIED:20260403T194257Z
UID:10780-1794218400-1794225600@lgnc.org
SUMMARY:Nature-minded Senior Sessions
DESCRIPTION:The Nature-minded Senior Sessions seek to bring together LGNC members for fellowship and conversations about nature\, conservation\, and other topics. Each session will include coffee/tea\, refreshments\, and a time for socializing. This will be followed by a brief presentation about a topic of interest and an open forum discussion among the group members. \nThe sessions will be held in the Great Hall at the Osprey House on the second Monday of each month from 9:00 to 10:30 a.m. There is no fee to attend the session as it is benefit of membership with LGNC\, and no registration is required to attend. \nIf you have any questions regarding this new event\, please email Dan Kunkle at dkunkle@ptd.net for more information. Thanks\, we hope to see you there!
URL:https://lgnc.org/event/nature-minded-senior-sessions-8/
ATTACH;FMTTYPE=image/jpeg:https://lgnc.org/wp-content/uploads/2026/04/Square-Event-Graphics1.jpg
END:VEVENT
BEGIN:VEVENT
DTSTART;TZID=America/New_York:20261119T100000
DTEND;TZID=America/New_York:20261119T120000
DTSTAMP:20260423T193310
CREATED:20260403T194557Z
LAST-MODIFIED:20260403T194557Z
UID:10784-1795082400-1795089600@lgnc.org
SUMMARY:Cabin Fever Book Club
DESCRIPTION:Join us for a discussion of Entangled Life by Merlin Sheldrake!\nAbout the Cabin Fever Book Club:\nThe Cabin Fever Book Club meets once a month during the fall and winter months to discuss fascinating books on such topics as ecology\, environmental history\, and environmentalism. Meetings will take place from 10:00 a.m. to noon on the dates listed below. Books will be available at the Palmerton and Slatington libraries\, Lehigh Gap Nature Center\, and on Amazon.com (at a cost). Please contact us at mail@lgnc.org if you have any questions\, or if you would like to lead a discussion! \n2026-2027 Cabin Fever Book Club Reading List:\n\n\n\n\n\n\n\n\n\n\n\n\n\n\n\n\n\n\n\n\n\n\n\n\n\n\n\n\n\n\n\n\n\n\n\n\n\nNovember 19\, 2026 – Entangled Life by Merlin Sheldrake\n(Discussion led by Joanne Pokorny) \nDecember 17\, 2026 – Fen\, Bog\, and Swamp by Annie Proulx\n(Discussion led by Janet Minnich) \nJanuary 21\, 2027 – One Last Lie by Paul Doiron\n(Discussion led by Debbie Hamburger) \nFebruary 18\, 2027 – The Rise of Wolf 8 by Rick MacIntyre\n(Discussion led by Dan Kunkle) \nMarch 18\, 2027– A Wilderness Within: The Life of Sigurd F. Olson by David Backes\n(Discussion led by Kristen Wild)
URL:https://lgnc.org/event/cabin-fever-book-club/
ATTACH;FMTTYPE=image/jpeg:https://lgnc.org/wp-content/uploads/2026/04/122.jpg
END:VEVENT
BEGIN:VEVENT
DTSTART;TZID=America/New_York:20261214T100000
DTEND;TZID=America/New_York:20261214T120000
DTSTAMP:20260423T193310
CREATED:20260403T194353Z
LAST-MODIFIED:20260403T194353Z
UID:10782-1797242400-1797249600@lgnc.org
SUMMARY:Nature-minded Senior Sessions
DESCRIPTION:The Nature-minded Senior Sessions seek to bring together LGNC members for fellowship and conversations about nature\, conservation\, and other topics. Each session will include coffee/tea\, refreshments\, and a time for socializing. This will be followed by a brief presentation about a topic of interest and an open forum discussion among the group members. \nThe sessions will be held in the Great Hall at the Osprey House on the second Monday of each month from 9:00 to 10:30 a.m. There is no fee to attend the session as it is benefit of membership with LGNC\, and no registration is required to attend. \nIf you have any questions regarding this new event\, please email Dan Kunkle at dkunkle@ptd.net for more information. Thanks\, we hope to see you there!
URL:https://lgnc.org/event/nature-minded-senior-sessions-9/
ATTACH;FMTTYPE=image/jpeg:https://lgnc.org/wp-content/uploads/2026/04/Square-Event-Graphics1.jpg
END:VEVENT
BEGIN:VEVENT
DTSTART;TZID=America/New_York:20261217T100000
DTEND;TZID=America/New_York:20261217T120000
DTSTAMP:20260423T193310
CREATED:20260403T194656Z
LAST-MODIFIED:20260403T194656Z
UID:10791-1797501600-1797508800@lgnc.org
SUMMARY:Cabin Fever Book Club
DESCRIPTION:Join us for a discussion of Fen\, Bog\, and Swamp by Annie Proulx!\nAbout the Cabin Fever Book Club:\nThe Cabin Fever Book Club meets once a month during the fall and winter months to discuss fascinating books on such topics as ecology\, environmental history\, and environmentalism. Meetings will take place from 10:00 a.m. to noon on the dates listed below. Books will be available at the Palmerton and Slatington libraries\, Lehigh Gap Nature Center\, and on Amazon.com (at a cost). Please contact us at mail@lgnc.org if you have any questions\, or if you would like to lead a discussion! \n2026-2027 Cabin Fever Book Club Reading List:\n\n\n\n\n\n\n\n\n\n\n\n\n\n\n\n\n\n\n\n\n\n\n\n\n\n\n\n\n\n\n\n\n\n\n\n\n\nNovember 19\, 2026 – Entangled Life by Merlin Sheldrake\n(Discussion led by Joanne Pokorny) \nDecember 17\, 2026 – Fen\, Bog\, and Swamp by Annie Proulx\n(Discussion led by Janet Minnich) \nJanuary 21\, 2027 – One Last Lie by Paul Doiron\n(Discussion led by Debbie Hamburger) \nFebruary 18\, 2027 – The Rise of Wolf 8 by Rick MacIntyre\n(Discussion led by Dan Kunkle) \nMarch 18\, 2027– A Wilderness Within: The Life of Sigurd F. Olson by David Backes\n(Discussion led by Kristen Wild)
URL:https://lgnc.org/event/cabin-fever-book-club-2/
ATTACH;FMTTYPE=image/jpeg:https://lgnc.org/wp-content/uploads/2026/04/123.jpg
END:VEVENT
BEGIN:VEVENT
DTSTART;TZID=America/New_York:20270121T100000
DTEND;TZID=America/New_York:20270121T120000
DTSTAMP:20260423T193310
CREATED:20260403T194749Z
LAST-MODIFIED:20260403T194749Z
UID:10793-1800525600-1800532800@lgnc.org
SUMMARY:Cabin Fever Book Club
DESCRIPTION:Join us for a discussion of One Last Lie by Paul Doiron!\nAbout the Cabin Fever Book Club:\nThe Cabin Fever Book Club meets once a month during the fall and winter months to discuss fascinating books on such topics as ecology\, environmental history\, and environmentalism. Meetings will take place from 10:00 a.m. to noon on the dates listed below. Books will be available at the Palmerton and Slatington libraries\, Lehigh Gap Nature Center\, and on Amazon.com (at a cost). Please contact us at mail@lgnc.org if you have any questions\, or if you would like to lead a discussion! \n2026-2027 Cabin Fever Book Club Reading List:\n\n\n\n\n\n\n\n\n\n\n\n\n\n\n\n\n\n\n\n\n\n\n\n\n\n\n\n\n\n\n\n\n\n\n\n\n\nNovember 19\, 2026 – Entangled Life by Merlin Sheldrake\n(Discussion led by Joanne Pokorny) \nDecember 17\, 2026 – Fen\, Bog\, and Swamp by Annie Proulx\n(Discussion led by Janet Minnich) \nJanuary 21\, 2027 – One Last Lie by Paul Doiron\n(Discussion led by Debbie Hamburger) \nFebruary 18\, 2027 – The Rise of Wolf 8 by Rick MacIntyre\n(Discussion led by Dan Kunkle) \nMarch 18\, 2027– A Wilderness Within: The Life of Sigurd F. Olson by David Backes\n(Discussion led by Kristen Wild)
URL:https://lgnc.org/event/cabin-fever-book-club-3/
ATTACH;FMTTYPE=image/jpeg:https://lgnc.org/wp-content/uploads/2026/04/124.jpg
END:VEVENT
BEGIN:VEVENT
DTSTART;TZID=America/New_York:20270218T100000
DTEND;TZID=America/New_York:20270218T120000
DTSTAMP:20260423T193310
CREATED:20260403T194856Z
LAST-MODIFIED:20260403T194856Z
UID:10795-1802944800-1802952000@lgnc.org
SUMMARY:Cabin Fever Book Club
DESCRIPTION:Join us for a discussion of The Rise of Wolf 8 by Rick MacIntyre!\nAbout the Cabin Fever Book Club:\nThe Cabin Fever Book Club meets once a month during the fall and winter months to discuss fascinating books on such topics as ecology\, environmental history\, and environmentalism. Meetings will take place from 10:00 a.m. to noon on the dates listed below. Books will be available at the Palmerton and Slatington libraries\, Lehigh Gap Nature Center\, and on Amazon.com (at a cost). Please contact us at mail@lgnc.org if you have any questions\, or if you would like to lead a discussion! \n2026-2027 Cabin Fever Book Club Reading List:\n\n\n\n\n\n\n\n\n\n\n\n\n\n\n\n\n\n\n\n\n\n\n\n\n\n\n\n\n\n\n\n\n\n\n\n\n\nNovember 19\, 2026 – Entangled Life by Merlin Sheldrake\n(Discussion led by Joanne Pokorny) \nDecember 17\, 2026 – Fen\, Bog\, and Swamp by Annie Proulx\n(Discussion led by Janet Minnich) \nJanuary 21\, 2027 – One Last Lie by Paul Doiron\n(Discussion led by Debbie Hamburger) \nFebruary 18\, 2027 – The Rise of Wolf 8 by Rick MacIntyre\n(Discussion led by Dan Kunkle) \nMarch 18\, 2027– A Wilderness Within: The Life of Sigurd F. Olson by David Backes\n(Discussion led by Kristen Wild)
URL:https://lgnc.org/event/cabin-fever-book-club-4/
ATTACH;FMTTYPE=image/jpeg:https://lgnc.org/wp-content/uploads/2026/04/125.jpg
END:VEVENT
BEGIN:VEVENT
DTSTART;TZID=America/New_York:20270318T100000
DTEND;TZID=America/New_York:20270318T120000
DTSTAMP:20260423T193310
CREATED:20260403T195005Z
LAST-MODIFIED:20260403T195005Z
UID:10797-1805364000-1805371200@lgnc.org
SUMMARY:Cabin Fever Book Club
DESCRIPTION:Join us for a discussion of A Wilderness Within by David Backes!\nAbout the Cabin Fever Book Club:\nThe Cabin Fever Book Club meets once a month during the fall and winter months to discuss fascinating books on such topics as ecology\, environmental history\, and environmentalism. Meetings will take place from 10:00 a.m. to noon on the dates listed below. Books will be available at the Palmerton and Slatington libraries\, Lehigh Gap Nature Center\, and on Amazon.com (at a cost). Please contact us at mail@lgnc.org if you have any questions\, or if you would like to lead a discussion! \n2026-2027 Cabin Fever Book Club Reading List:\n\n\n\n\n\n\n\n\n\n\n\n\n\n\n\n\n\n\n\n\n\n\n\n\n\n\n\n\n\n\n\n\n\n\n\n\n\nNovember 19\, 2026 – Entangled Life by Merlin Sheldrake\n(Discussion led by Joanne Pokorny) \nDecember 17\, 2026 – Fen\, Bog\, and Swamp by Annie Proulx\n(Discussion led by Janet Minnich) \nJanuary 21\, 2027 – One Last Lie by Paul Doiron\n(Discussion led by Debbie Hamburger) \nFebruary 18\, 2027 – The Rise of Wolf 8 by Rick MacIntyre\n(Discussion led by Dan Kunkle) \nMarch 18\, 2027– A Wilderness Within: The Life of Sigurd F. Olson by David Backes\n(Discussion led by Kristen Wild)
URL:https://lgnc.org/event/cabin-fever-book-club-5/
ATTACH;FMTTYPE=image/jpeg:https://lgnc.org/wp-content/uploads/2026/04/126.jpg
END:VEVENT
END:VCALENDAR