BEGIN:VCALENDAR
VERSION:2.0
PRODID:-//Lehigh Gap Nature Center - ECPv6.15.20//NONSGML v1.0//EN
CALSCALE:GREGORIAN
METHOD:PUBLISH
X-WR-CALNAME:Lehigh Gap Nature Center
X-ORIGINAL-URL:https://lgnc.org
X-WR-CALDESC:Events for Lehigh Gap Nature Center
REFRESH-INTERVAL;VALUE=DURATION:PT1H
X-Robots-Tag:noindex
X-PUBLISHED-TTL:PT1H
BEGIN:VTIMEZONE
TZID:America/New_York
BEGIN:DAYLIGHT
TZOFFSETFROM:-0500
TZOFFSETTO:-0400
TZNAME:EDT
DTSTART:20250309T070000
END:DAYLIGHT
BEGIN:STANDARD
TZOFFSETFROM:-0400
TZOFFSETTO:-0500
TZNAME:EST
DTSTART:20251102T060000
END:STANDARD
BEGIN:DAYLIGHT
TZOFFSETFROM:-0500
TZOFFSETTO:-0400
TZNAME:EDT
DTSTART:20260308T070000
END:DAYLIGHT
BEGIN:STANDARD
TZOFFSETFROM:-0400
TZOFFSETTO:-0500
TZNAME:EST
DTSTART:20261101T060000
END:STANDARD
BEGIN:DAYLIGHT
TZOFFSETFROM:-0500
TZOFFSETTO:-0400
TZNAME:EDT
DTSTART:20270314T070000
END:DAYLIGHT
BEGIN:STANDARD
TZOFFSETFROM:-0400
TZOFFSETTO:-0500
TZNAME:EST
DTSTART:20271107T060000
END:STANDARD
END:VTIMEZONE
BEGIN:VEVENT
DTSTART;TZID=America/New_York:20260701T180000
DTEND;TZID=America/New_York:20260701T200000
DTSTAMP:20260423T192134
CREATED:20260416T193237Z
LAST-MODIFIED:20260416T193237Z
UID:10950-1782928800-1782936000@lgnc.org
SUMMARY:What's in the Water? Freshwater Snorkeling in the Lehigh River
DESCRIPTION:Discover the fascinating ecosystem that lies below the Lehigh River! During this special program with LGNC and Berks Nature\, participants will have the opportunity to wade and snorkel in the shallows of the river. As we observe a host of aquatic life\, we will discuss what many of these critters can teach us about the health and quality of the water. Participants must be at least 10 years old to enter the river. All children must be accompanied and supervised by an adult. Be sure to wear a swimsuit\, closed-toe water shoes or old sneakers\, and sunscreen. Wet suits and other snorkeling gear will be provided. \nFee: LGNC members: $30 | Non-members: $35 per person \nRegistration: Click the link to register for this event! \nTo become a member\, please visit our Square store at this link! \nQuestions? Contact us at mail@lgnc.org or 610-760-8889.
URL:https://lgnc.org/event/whats-in-the-water-freshwater-snorkeling-in-the-lehigh-river/
ATTACH;FMTTYPE=image/webp:https://lgnc.org/wp-content/uploads/2026/04/Square-Event-Graphics-2026-04-13T142749.247.webp
END:VEVENT
BEGIN:VEVENT
DTSTART;TZID=America/New_York:20260623T150000
DTEND;TZID=America/New_York:20260623T190000
DTSTAMP:20260423T192134
CREATED:20260416T181122Z
LAST-MODIFIED:20260416T181122Z
UID:10914-1782226800-1782241200@lgnc.org
SUMMARY:Lehigh Gap Bike and Raft
DESCRIPTION:Explore the Lehigh River and D&L Trail on a biking and rafting adventure between Lehigh Gap Nature Center’s Osprey House (8844 Paint Mill Rd.\, Slatington) and Bowmanstown. The trip includes professional safety guides and beginner level instruction. We will make stops along the way to learn about local history and ecology with a river study led by LGNC staff. All equipment\, including bikes\, helmets\, PFDs\, and rafts will be provided. All participants should know how to ride a bicycle. \nThis activity is family-friendly. However\, the recommended minimum age to participate is 10. This event is sponsored by Jim Thorpe River Adventures and will serve as a fundraiser for Lehigh Gap Nature Center; your participation in this event will directly support Lehigh Gap Nature Center. Registration is required and spots are limited. \nFee: LGNC members: $50 per person | Non-members: $75 per person \nRegistration: Click here to register now for this event! \nTo become a member\, please visit our Square store at this link! \nQuestions? Contact us at mail@lgnc.org or 610-760-8889.
URL:https://lgnc.org/event/lehigh-gap-bike-and-raft/
ATTACH;FMTTYPE=image/webp:https://lgnc.org/wp-content/uploads/2026/04/Square-Event-Graphics-2026-04-13T142039.952.webp
END:VEVENT
BEGIN:VEVENT
DTSTART;TZID=America/New_York:20260620T100000
DTEND;TZID=America/New_York:20260620T150000
DTSTAMP:20260423T192134
CREATED:20260416T185713Z
LAST-MODIFIED:20260416T190004Z
UID:10931-1781949600-1781967600@lgnc.org
SUMMARY:Pollinator Day & Native Plant Sale
DESCRIPTION:See you on Saturday\, June 20th for Pollinator Day from 10am-3pm!This year’s theme is all about butterflies! Don’t miss out on our Native Plant Sale\, guided walks\, displays\, local artists\, activities for all ages\, and the Buns on the Go food truck! See you there! 🦋 \nCalling all artists! Submit your artwork now for the Pollinator Day 2026 art exhibition! Artwork must highlight butterflies in celebration of this month’s theme. Spread the word and click the link for more details and to submit your work: https://forms.gle/4qXo4cQ945U61K8x6 🦋 Submissions close on June 12th.
URL:https://lgnc.org/event/pollinator-day-native-plant-sale/
ATTACH;FMTTYPE=image/webp:https://lgnc.org/wp-content/uploads/2026/04/Square-Event-Graphics-2026-04-13T134719.468.webp
END:VEVENT
BEGIN:VEVENT
DTSTART;TZID=America/New_York:20260610T100000
DTEND;TZID=America/New_York:20260610T120000
DTSTAMP:20260423T192134
CREATED:20260416T184409Z
LAST-MODIFIED:20260416T184409Z
UID:10923-1781085600-1781092800@lgnc.org
SUMMARY:Nature in Art Club - Drop-in Studio
DESCRIPTION:Nature in Art Club members are invited to join us the 2nd Wednesday of each month from 10:00am to 12:00pm for a Drop-In Studio. Bring a personal art project to work on (all mediums are welcome!) and enjoy conversation with fellow local artists. During the warmer months\, we have portable easels available to borrow for plein-air painting outside the Osprey House! \nThe Nature in Art Club is a free benefit of a Lehigh Gap Nature Center membership. Click the link below to join the Art Club email list- get early access to art related events\, and get updates about our annual art show\, club meetings\, and more! https://forms.gle/QwqvP7AdBtGTchNp6 \nThe Drop-in Studio is free to attend and registration is not required. To join the Art Club and attend a Drop-in Studio\, click here to become an LGNC Member first! \nQuestions? Contact us at artclub@lgnc.org or 610-760-8889.
URL:https://lgnc.org/event/nature-in-art-club-drop-in-studio-2/
ATTACH;FMTTYPE=image/webp:https://lgnc.org/wp-content/uploads/2026/04/Square-Event-Graphics-2026-04-16T141930.028.webp
END:VEVENT
BEGIN:VEVENT
DTSTART;TZID=America/New_York:20260610T100000
DTEND;TZID=America/New_York:20260610T113000
DTSTAMP:20260423T192134
CREATED:20260416T181446Z
LAST-MODIFIED:20260416T181446Z
UID:10917-1781085600-1781091000@lgnc.org
SUMMARY:Junior Explorer Nature Walk
DESCRIPTION:Young explorers of all ages are invited to discover the cool critters of LGNC this summer! Each family-fun nature walk will meet at LGNC’s Osprey House. Kids will learn to use insect nets to catch and identify insects. Be sure to wear closed-toe shoes (no sandals)\, sunscreen\, and a hat. All children must be accompanied and supervised by an adult. Walks will be cancelled if heavy rain or thunderstorms are in the forecast. \nFee: LGNC members: FREE | Non-members: $5 per person \nRegistration: Click here to register for this event! \nTo become a member\, please visit our Square store at this link! \nQuestions? Contact us at mail@lgnc.org or 610-760-8889.
URL:https://lgnc.org/event/junior-explorer-nature-walk/
ATTACH;FMTTYPE=image/webp:https://lgnc.org/wp-content/uploads/2026/04/Square-Event-Graphics-2026-04-13T142311.031.webp
END:VEVENT
BEGIN:VEVENT
DTSTART;TZID=America/New_York:20260608T100000
DTEND;TZID=America/New_York:20260608T120000
DTSTAMP:20260423T192134
CREATED:20260403T132617Z
LAST-MODIFIED:20260403T132617Z
UID:10770-1780912800-1780920000@lgnc.org
SUMMARY:Nature-minded Senior Sessions
DESCRIPTION:The Nature-minded Senior Sessions seek to bring together LGNC members for fellowship and conversations about nature\, conservation\, and other topics. Each session will include coffee/tea\, refreshments\, and a time for socializing. This will be followed by a brief presentation about a topic of interest and an open forum discussion among the group members. \nThe sessions will be held in the Great Hall at the Osprey House on the second Monday of each month from 9:00 to 10:30 a.m. There is no fee to attend the session as it is benefit of membership with LGNC\, and no registration is required to attend. \nIf you have any questions regarding this new event\, please email Dan Kunkle at dkunkle@ptd.net for more information. Thanks\, we hope to see you there!
URL:https://lgnc.org/event/nature-minded-senior-sessions-3/
ATTACH;FMTTYPE=image/jpeg:https://lgnc.org/wp-content/uploads/2026/04/Square-Event-Graphics1.jpg
END:VEVENT
BEGIN:VEVENT
DTSTART;TZID=America/New_York:20260603T161500
DTEND;TZID=America/New_York:20260603T171500
DTSTAMP:20260423T192134
CREATED:20260402T184705Z
LAST-MODIFIED:20260402T185427Z
UID:10725-1780503300-1780506900@lgnc.org
SUMMARY:Ecology Club for Kids
DESCRIPTION:LGNC’s Ecology Club is open to children ages 9 and older. Join us after school on the first Wednesday of every month for fun\, hands-on nature adventures at the Osprey House and the Lehigh Gap Wildlife Refuge. \nParticipation is FREE to all LGNC members and their families! Not a member? Click here to find out how to join today: https://lgnc.org/join-renew-give/ \nEmail riley.davenport@lgnc.org if you are interested in attending and have questions! \n4:15-5:15pm \n2025-2026 Dates:\nSeptember 3\nOctober 1\nNovember 5\nDecember 3\nJanuary 7\nFebruary 4\nMarch 4\nApril 1\nMay 6\nJune 3
URL:https://lgnc.org/event/ecology-club-for-kids-2/
ATTACH;FMTTYPE=image/jpeg:https://lgnc.org/wp-content/uploads/2026/04/Square-Event-Graphics-3.jpg
END:VEVENT
BEGIN:VEVENT
DTSTART;TZID=America/New_York:20260528T170000
DTEND;TZID=America/New_York:20260528T200000
DTSTAMP:20260423T192134
CREATED:20260416T191115Z
LAST-MODIFIED:20260416T191115Z
UID:10936-1779987600-1779998400@lgnc.org
SUMMARY:Lehigh Gap Bike Tour
DESCRIPTION:Pack up your bike and explore the D&L Trail with LGNC Board Member Brandon Fogal! The Lehigh Gap Bike Tour will begin at Lehigh Gap Nature Center’s Osprey House (8844 Paint Mill Road\, Slatington) and go up to Weissport and back\, totaling about 15 miles round trip. We will make stops along the way to learn about local history and ecology. (If there is heavy rain or thunderstorms in the forecast\, this event will be postponed to June 4) \nThe trip includes a professional guide\, and participants must bring their own bikes and helmets as these items will not be provided. Please bring a backpack with water and a snack\, and be sure to pack some cash to stop for ice cream on the way back!  This activity is family-friendly. However\, the recommended minimum age to participate is 10. Registration is required and spots are limited. \nFee: LGNC members: $15 per person | Non-members: $20 per person \nRegistration: Click here to register for this event! \nTo become a member\, please visit our Square store at this link! \nQuestions? Contact us at mail@lgnc.org or 610-760-8889.
URL:https://lgnc.org/event/lehigh-gap-bike-tour/
ATTACH;FMTTYPE=image/webp:https://lgnc.org/wp-content/uploads/2026/04/Square-Event-Graphics-2026-04-13T135120.371.webp
END:VEVENT
BEGIN:VEVENT
DTSTART;TZID=America/New_York:20260513T100000
DTEND;TZID=America/New_York:20260513T120000
DTSTAMP:20260423T192134
CREATED:20260416T184246Z
LAST-MODIFIED:20260416T184246Z
UID:10920-1778666400-1778673600@lgnc.org
SUMMARY:Nature in Art Club - Drop-in Studio
DESCRIPTION:Nature in Art Club members are invited to join us the 2nd Wednesday of each month from 10:00am to 12:00pm for a Drop-In Studio. Bring a personal art project to work on (all mediums are welcome!) and enjoy conversation with fellow local artists. During the warmer months\, we have portable easels available to borrow for plein-air painting outside the Osprey House! \nThe Nature in Art Club is a free benefit of a Lehigh Gap Nature Center membership. Click the link below to join the Art Club email list- get early access to art related events\, and get updates about our annual art show\, club meetings\, and more! https://forms.gle/QwqvP7AdBtGTchNp6 \nThe Drop-in Studio is free to attend and registration is not required. To join the Art Club and attend a Drop-in Studio\, click here to become an LGNC Member first! \nQuestions? Contact us at artclub@lgnc.org or 610-760-8889.
URL:https://lgnc.org/event/nature-in-art-club-drop-in-studio/
ATTACH;FMTTYPE=image/webp:https://lgnc.org/wp-content/uploads/2026/04/Square-Event-Graphics-2026-04-16T141930.028.webp
END:VEVENT
BEGIN:VEVENT
DTSTART;TZID=America/New_York:20260511T100000
DTEND;TZID=America/New_York:20260511T120000
DTSTAMP:20260423T192134
CREATED:20260403T132542Z
LAST-MODIFIED:20260403T132542Z
UID:10767-1778493600-1778500800@lgnc.org
SUMMARY:Nature-minded Senior Sessions
DESCRIPTION:The Nature-minded Senior Sessions seek to bring together LGNC members for fellowship and conversations about nature\, conservation\, and other topics. Each session will include coffee/tea\, refreshments\, and a time for socializing. This will be followed by a brief presentation about a topic of interest and an open forum discussion among the group members. \nThe sessions will be held in the Great Hall at the Osprey House on the second Monday of each month from 9:00 to 10:30 a.m. There is no fee to attend the session as it is benefit of membership with LGNC\, and no registration is required to attend. \nIf you have any questions regarding this new event\, please email Dan Kunkle at dkunkle@ptd.net for more information. Thanks\, we hope to see you there!
URL:https://lgnc.org/event/nature-minded-senior-sessions-2/
ATTACH;FMTTYPE=image/jpeg:https://lgnc.org/wp-content/uploads/2026/04/Square-Event-Graphics1.jpg
END:VEVENT
BEGIN:VEVENT
DTSTART;TZID=America/New_York:20260509T080000
DTEND;TZID=America/New_York:20260509T100000
DTSTAMP:20260423T192134
CREATED:20260402T183625Z
LAST-MODIFIED:20260402T183625Z
UID:10718-1778313600-1778320800@lgnc.org
SUMMARY:Warbler Walk with Terry Master
DESCRIPTION:Description: Join Ornithologist and LGNC Board Member Terry Master on a Warbler Walk at LGNC! Although these walks will be geared toward beginner birders\, people of all ages and experience levels are welcome to attend. Some portions of the walk may be steep or rocky\, please wear closed toe shoes that are fit for hiking. If there is inclement weather\, program will be postponed to Sunday May 10th. \nFee: LGNC members: FREE | Non-members: $5 per person \nRegistration: Please register online through Zeffy at this link! \nTo become a member\, please visit our Square store at this link! \nQuestions? Contact us at mail@lgnc.org or 610-760-8889.
URL:https://lgnc.org/event/warbler-walk-with-terry-master/
ATTACH;FMTTYPE=image/jpeg:https://lgnc.org/wp-content/uploads/2026/04/Square-Event-Graphics-1.jpg
END:VEVENT
BEGIN:VEVENT
DTSTART;TZID=America/New_York:20260506T161500
DTEND;TZID=America/New_York:20260506T171500
DTSTAMP:20260423T192134
CREATED:20260402T184630Z
LAST-MODIFIED:20260402T185356Z
UID:10722-1778084100-1778087700@lgnc.org
SUMMARY:Ecology Club for Kids
DESCRIPTION:LGNC’s Ecology Club is open to children ages 9 and older. Join us after school on the first Wednesday of every month for fun\, hands-on nature adventures at the Osprey House and the Lehigh Gap Wildlife Refuge. \nParticipation is FREE to all LGNC members and their families! Not a member? Click here to find out how to join today: https://lgnc.org/join-renew-give/ \nEmail riley.davenport@lgnc.org if you are interested in attending and have questions! \n4:15-5:15pm \n2025-2026 Dates:\nSeptember 3\nOctober 1\nNovember 5\nDecember 3\nJanuary 7\nFebruary 4\nMarch 4\nApril 1\nMay 6\nJune 3
URL:https://lgnc.org/event/ecology-club-for-kids/
ATTACH;FMTTYPE=image/jpeg:https://lgnc.org/wp-content/uploads/2026/04/Square-Event-Graphics-3.jpg
END:VEVENT
BEGIN:VEVENT
DTSTART;TZID=America/New_York:20260422T100000
DTEND;TZID=America/New_York:20260422T113000
DTSTAMP:20260423T192134
CREATED:20260402T141217Z
LAST-MODIFIED:20260402T141217Z
UID:10702-1776852000-1776857400@lgnc.org
SUMMARY:Spring Bird Walk
DESCRIPTION:Description: Search for colorful spring migrants as they make their way back north! Binoculars will be provided to those who do not have them. Although these walks will be geared toward beginner birders\, people of all ages are welcome to attend. \nFee: LGNC members: FREE | Non-members: $5 per person \nRegistration: Please register online through this Zeffy at this link! \nTo become a member\, please visit our Square store at this link! \nQuestions? Contact us at mail@lgnc.org or 610-760-8889.
URL:https://lgnc.org/event/spring-bird-walk/
ATTACH;FMTTYPE=image/jpeg:https://lgnc.org/wp-content/uploads/2026/04/Square-Event-Graphics.jpg
END:VEVENT
BEGIN:VEVENT
DTSTART;TZID=America/New_York:20260418T090000
DTEND;TZID=America/New_York:20260418T120000
DTSTAMP:20260423T192134
CREATED:20260403T195957Z
LAST-MODIFIED:20260403T201959Z
UID:10800-1776502800-1776513600@lgnc.org
SUMMARY:Earth Day Cleanup
DESCRIPTION:Get ready to kick off the season with us as we prepare the gardens and refuge for spring and summer! We’ll be trimming back plants in the gardens and giving the River Trail a fresh cleanup. All volunteers are welcome to join the fun! We’ll have gloves and pruners available\, but feel free to bring your own if you have them. Email mail@lgnc.org for more information.
URL:https://lgnc.org/event/earth-day-cleanup/
ATTACH;FMTTYPE=image/jpeg:https://lgnc.org/wp-content/uploads/2026/04/Square-Event-Graphics-4.jpg
END:VEVENT
BEGIN:VEVENT
DTSTART;TZID=America/New_York:20260413T100000
DTEND;TZID=America/New_York:20260413T120000
DTSTAMP:20260423T192134
CREATED:20260403T132506Z
LAST-MODIFIED:20260403T132506Z
UID:10764-1776074400-1776081600@lgnc.org
SUMMARY:Nature-minded Senior Sessions
DESCRIPTION:The Nature-minded Senior Sessions seek to bring together LGNC members for fellowship and conversations about nature\, conservation\, and other topics. Each session will include coffee/tea\, refreshments\, and a time for socializing. This will be followed by a brief presentation about a topic of interest and an open forum discussion among the group members. \nThe sessions will be held in the Great Hall at the Osprey House on the second Monday of each month from 9:00 to 10:30 a.m. There is no fee to attend the session as it is benefit of membership with LGNC\, and no registration is required to attend. \nIf you have any questions regarding this new event\, please email Dan Kunkle at dkunkle@ptd.net for more information. Thanks\, we hope to see you there!
URL:https://lgnc.org/event/nature-minded-senior-sessions/
ATTACH;FMTTYPE=image/jpeg:https://lgnc.org/wp-content/uploads/2026/04/Square-Event-Graphics1.jpg
END:VEVENT
END:VCALENDAR