BEGIN:VCALENDAR
VERSION:2.0
PRODID:-//Lehigh Gap Nature Center - ECPv6.15.20//NONSGML v1.0//EN
CALSCALE:GREGORIAN
METHOD:PUBLISH
X-WR-CALNAME:Lehigh Gap Nature Center
X-ORIGINAL-URL:https://lgnc.org
X-WR-CALDESC:Events for Lehigh Gap Nature Center
REFRESH-INTERVAL;VALUE=DURATION:PT1H
X-Robots-Tag:noindex
X-PUBLISHED-TTL:PT1H
BEGIN:VTIMEZONE
TZID:America/New_York
BEGIN:DAYLIGHT
TZOFFSETFROM:-0500
TZOFFSETTO:-0400
TZNAME:EDT
DTSTART:20250309T070000
END:DAYLIGHT
BEGIN:STANDARD
TZOFFSETFROM:-0400
TZOFFSETTO:-0500
TZNAME:EST
DTSTART:20251102T060000
END:STANDARD
BEGIN:DAYLIGHT
TZOFFSETFROM:-0500
TZOFFSETTO:-0400
TZNAME:EDT
DTSTART:20260308T070000
END:DAYLIGHT
BEGIN:STANDARD
TZOFFSETFROM:-0400
TZOFFSETTO:-0500
TZNAME:EST
DTSTART:20261101T060000
END:STANDARD
BEGIN:DAYLIGHT
TZOFFSETFROM:-0500
TZOFFSETTO:-0400
TZNAME:EDT
DTSTART:20270314T070000
END:DAYLIGHT
BEGIN:STANDARD
TZOFFSETFROM:-0400
TZOFFSETTO:-0500
TZNAME:EST
DTSTART:20271107T060000
END:STANDARD
END:VTIMEZONE
BEGIN:VEVENT
DTSTART;TZID=America/New_York:20260829T110000
DTEND;TZID=America/New_York:20260829T143000
DTSTAMP:20260423T173542
CREATED:20260416T191533Z
LAST-MODIFIED:20260416T191533Z
UID:10940-1788001200-1788013800@lgnc.org
SUMMARY:Member & Volunteer Picnic
DESCRIPTION:You’re invited to this year’s Member & Volunteer Picnic! LGNC members and volunteers are invited to enjoy an afternoon of food and fellowship! All food\, beverages\, and dessert will be provided. \nPlease RSVP by August 9th to let us know you are coming! \nClick here to RSVP! \nTo become a member\, please visit our Square store at this link! \nQuestions? Contact us at mail@lgnc.org or 610-760-8889.
URL:https://lgnc.org/event/member-volunteer-picnic/
ATTACH;FMTTYPE=image/webp:https://lgnc.org/wp-content/uploads/2026/04/Square-Event-Graphics-2026-04-13T145404.880.webp
END:VEVENT
END:VCALENDAR