BEGIN:VCALENDAR
VERSION:2.0
PRODID:-//Lehigh Gap Nature Center - ECPv6.15.20//NONSGML v1.0//EN
CALSCALE:GREGORIAN
METHOD:PUBLISH
X-ORIGINAL-URL:https://lgnc.org
X-WR-CALDESC:Events for Lehigh Gap Nature Center
REFRESH-INTERVAL;VALUE=DURATION:PT1H
X-Robots-Tag:noindex
X-PUBLISHED-TTL:PT1H
BEGIN:VTIMEZONE
TZID:America/New_York
BEGIN:DAYLIGHT
TZOFFSETFROM:-0500
TZOFFSETTO:-0400
TZNAME:EDT
DTSTART:20250309T070000
END:DAYLIGHT
BEGIN:STANDARD
TZOFFSETFROM:-0400
TZOFFSETTO:-0500
TZNAME:EST
DTSTART:20251102T060000
END:STANDARD
BEGIN:DAYLIGHT
TZOFFSETFROM:-0500
TZOFFSETTO:-0400
TZNAME:EDT
DTSTART:20260308T070000
END:DAYLIGHT
BEGIN:STANDARD
TZOFFSETFROM:-0400
TZOFFSETTO:-0500
TZNAME:EST
DTSTART:20261101T060000
END:STANDARD
BEGIN:DAYLIGHT
TZOFFSETFROM:-0500
TZOFFSETTO:-0400
TZNAME:EDT
DTSTART:20270314T070000
END:DAYLIGHT
BEGIN:STANDARD
TZOFFSETFROM:-0400
TZOFFSETTO:-0500
TZNAME:EST
DTSTART:20271107T060000
END:STANDARD
END:VTIMEZONE
BEGIN:VEVENT
DTSTART;TZID=America/New_York:20260728T200000
DTEND;TZID=America/New_York:20260728T213000
DTSTAMP:20260423T160918
CREATED:20260416T193913Z
LAST-MODIFIED:20260416T193913Z
UID:10959-1785268800-1785274200@lgnc.org
SUMMARY:Nature at Night
DESCRIPTION:Search for moths\, caterpillars\, bats\, and other creatures of the night. Discover critters that glow in the dark with black light flashlights! Flashlights will be provided. \nFee: LGNC members: FREE | Non-members: $10 per person \nRegistration: Click here to register for this event! \nTo become a member\, please visit our Square store at this link! \nQuestions? Contact us at mail@lgnc.org or 610-760-8889.
URL:https://lgnc.org/event/nature-at-night/
ATTACH;FMTTYPE=image/webp:https://lgnc.org/wp-content/uploads/2026/04/Square-Event-Graphics-2026-04-13T143057.690.webp
END:VEVENT
END:VCALENDAR