BEGIN:VCALENDAR
VERSION:2.0
PRODID:-//Lehigh Gap Nature Center - ECPv6.15.20//NONSGML v1.0//EN
CALSCALE:GREGORIAN
METHOD:PUBLISH
X-WR-CALNAME:Lehigh Gap Nature Center
X-ORIGINAL-URL:https://lgnc.org
X-WR-CALDESC:Events for Lehigh Gap Nature Center
REFRESH-INTERVAL;VALUE=DURATION:PT1H
X-Robots-Tag:noindex
X-PUBLISHED-TTL:PT1H
BEGIN:VTIMEZONE
TZID:America/New_York
BEGIN:DAYLIGHT
TZOFFSETFROM:-0500
TZOFFSETTO:-0400
TZNAME:EDT
DTSTART:20250309T070000
END:DAYLIGHT
BEGIN:STANDARD
TZOFFSETFROM:-0400
TZOFFSETTO:-0500
TZNAME:EST
DTSTART:20251102T060000
END:STANDARD
BEGIN:DAYLIGHT
TZOFFSETFROM:-0500
TZOFFSETTO:-0400
TZNAME:EDT
DTSTART:20260308T070000
END:DAYLIGHT
BEGIN:STANDARD
TZOFFSETFROM:-0400
TZOFFSETTO:-0500
TZNAME:EST
DTSTART:20261101T060000
END:STANDARD
BEGIN:DAYLIGHT
TZOFFSETFROM:-0500
TZOFFSETTO:-0400
TZNAME:EDT
DTSTART:20270314T070000
END:DAYLIGHT
BEGIN:STANDARD
TZOFFSETFROM:-0400
TZOFFSETTO:-0500
TZNAME:EST
DTSTART:20271107T060000
END:STANDARD
END:VTIMEZONE
BEGIN:VEVENT
DTSTART;TZID=America/New_York:20260711T090000
DTEND;TZID=America/New_York:20260711T110000
DTSTAMP:20260423T160755
CREATED:20260416T193446Z
LAST-MODIFIED:20260416T193446Z
UID:10953-1783760400-1783767600@lgnc.org
SUMMARY:3 Ponds Hike with Dan Kunkle
DESCRIPTION:Join LGNC Founder and Director Emeritus Dan Kunkle on a summer hike to the 3 Ponds Trail located on the western end of LGNC’s Refuge! This will be a natural history walk where we will look for birds\, turtles\, frogs\, dragonflies\, plants and more! We hope to find turtles sunning on the platforms in the ponds and dragonflies hunting mosquitoes. We will bring a net to try to catch some insects for close looks and a dip net to see what we can find in the pond water. Bring your binoculars\, but we will have extra to borrow. \nPeople of all ages and experience levels are welcome to attend. This area can be wet and buggy\, so wear shoes you don’t mind getting wet and bring water! \nPLEASE NOTE: This event does NOT meet at the Osprey House. \nMeet at D&L East Penn Trailhead (Also known as the East Penn/Riverview Boat Launch). Find directions here: https://maps.app.goo.gl/1houLEQK58afAPQHA \nFee: LGNC members: FREE | Non-members: $5 per person \nRegistration: Click here to register for this event! \nTo become a member\, please visit our Square store at this link! \nQuestions? Contact us at mail@lgnc.org or 610-760-8889.
URL:https://lgnc.org/event/3-ponds-hike-with-dan-kunkle/
ATTACH;FMTTYPE=image/webp:https://lgnc.org/wp-content/uploads/2026/04/Square-Event-Graphics-2026-04-13T142814.820.webp
END:VEVENT
BEGIN:VEVENT
DTSTART;TZID=America/New_York:20260711T090000
DTEND;TZID=America/New_York:20260711T120000
DTSTAMP:20260423T160755
CREATED:20260417T191437Z
LAST-MODIFIED:20260417T191437Z
UID:10979-1783760400-1783771200@lgnc.org
SUMMARY:Virtual Reality with Lehigh University
DESCRIPTION:Stop into the Osprey House anytime between 9am and 12pm today to experience Virtual Reality. Created in partnership with staff and students at Lehigh University\, try this new virtual reality learning game that takes place right here in the Lehigh Gap before exploring our trails! \nAfter playing the game\, Lehigh University invites everyone to complete a brief survey at the end of the experience to let them know what you think. Your feedback helps improve the experience and supports ongoing educational research with LGNC and Lehigh University. \nThis event is free and no registration is required.
URL:https://lgnc.org/event/virtual-reality-with-lehigh-university/
ATTACH;FMTTYPE=image/webp:https://lgnc.org/wp-content/uploads/2026/04/Square-Event-Graphics-2026-04-17T150626.576.webp
END:VEVENT
END:VCALENDAR