BEGIN:VCALENDAR
VERSION:2.0
PRODID:-//Lehigh Gap Nature Center - ECPv6.15.20//NONSGML v1.0//EN
CALSCALE:GREGORIAN
METHOD:PUBLISH
X-WR-CALNAME:Lehigh Gap Nature Center
X-ORIGINAL-URL:https://lgnc.org
X-WR-CALDESC:Events for Lehigh Gap Nature Center
REFRESH-INTERVAL;VALUE=DURATION:PT1H
X-Robots-Tag:noindex
X-PUBLISHED-TTL:PT1H
BEGIN:VTIMEZONE
TZID:America/New_York
BEGIN:DAYLIGHT
TZOFFSETFROM:-0500
TZOFFSETTO:-0400
TZNAME:EDT
DTSTART:20250309T070000
END:DAYLIGHT
BEGIN:STANDARD
TZOFFSETFROM:-0400
TZOFFSETTO:-0500
TZNAME:EST
DTSTART:20251102T060000
END:STANDARD
BEGIN:DAYLIGHT
TZOFFSETFROM:-0500
TZOFFSETTO:-0400
TZNAME:EDT
DTSTART:20260308T070000
END:DAYLIGHT
BEGIN:STANDARD
TZOFFSETFROM:-0400
TZOFFSETTO:-0500
TZNAME:EST
DTSTART:20261101T060000
END:STANDARD
BEGIN:DAYLIGHT
TZOFFSETFROM:-0500
TZOFFSETTO:-0400
TZNAME:EDT
DTSTART:20270314T070000
END:DAYLIGHT
BEGIN:STANDARD
TZOFFSETFROM:-0400
TZOFFSETTO:-0500
TZNAME:EST
DTSTART:20271107T060000
END:STANDARD
END:VTIMEZONE
BEGIN:VEVENT
DTSTART;TZID=America/New_York:20260708T090000
DTEND;TZID=America/New_York:20260708T120000
DTSTAMP:20260423T160748
CREATED:20260402T211740Z
LAST-MODIFIED:20260416T191935Z
UID:10733-1783501200-1783512000@lgnc.org
SUMMARY:SOLD OUT - Budding Naturalist Mini-Camp
DESCRIPTION:LGNC’s Budding Naturalist Mini-Camp is a summer day camp for children in grades K-2 and their parents and guardians! Over a series of 4 days\, campers will learn about critters and their habitats as we discover what lives in LGNC’s forest\, grassland\, river\, and pond ecosystems. The camp will meet at the Nature Center from 9:00 a.m. to noon. All children must be accompanied by an adult for this camp. Campers and their adults will discover a variety of critters that call the Lehigh Gap home as we explore the habitats around LGNC’s Osprey House! Each day of camp will include a story time\, an outdoor adventure\, and a craft. \nFee: $100 for LGNC Members / $125 for LGNC Non-members \nThe 2025 camp will take place July 7-10\, 9 AM-12 PM. \nPlease register online at this link:\n2026 Budding Naturalist Mini-Camp\n \nFinancial aid is available upon request. Click here to request a summer camp subsidy. \nPlease contact us at mail@lgnc.org if you have any questions!
URL:https://lgnc.org/event/budding-naturalist-mini-camp-2/
ATTACH;FMTTYPE=image/jpeg:https://lgnc.org/wp-content/uploads/2026/04/3.jpg
END:VEVENT
BEGIN:VEVENT
DTSTART;TZID=America/New_York:20260708T100000
DTEND;TZID=America/New_York:20260708T120000
DTSTAMP:20260423T160748
CREATED:20260416T184507Z
LAST-MODIFIED:20260416T184507Z
UID:10925-1783504800-1783512000@lgnc.org
SUMMARY:Nature in Art Club - Drop-in Studio
DESCRIPTION:Nature in Art Club members are invited to join us the 2nd Wednesday of each month from 10:00am to 12:00pm for a Drop-In Studio. Bring a personal art project to work on (all mediums are welcome!) and enjoy conversation with fellow local artists. During the warmer months\, we have portable easels available to borrow for plein-air painting outside the Osprey House! \nThe Nature in Art Club is a free benefit of a Lehigh Gap Nature Center membership. Click the link below to join the Art Club email list- get early access to art related events\, and get updates about our annual art show\, club meetings\, and more! https://forms.gle/QwqvP7AdBtGTchNp6 \nThe Drop-in Studio is free to attend and registration is not required. To join the Art Club and attend a Drop-in Studio\, click here to become an LGNC Member first! \nQuestions? Contact us at artclub@lgnc.org or 610-760-8889.
URL:https://lgnc.org/event/nature-in-art-club-drop-in-studio-3/
ATTACH;FMTTYPE=image/webp:https://lgnc.org/wp-content/uploads/2026/04/Square-Event-Graphics-2026-04-16T141930.028.webp
END:VEVENT
END:VCALENDAR