BEGIN:VCALENDAR
VERSION:2.0
PRODID:-//Lehigh Gap Nature Center - ECPv6.15.20//NONSGML v1.0//EN
CALSCALE:GREGORIAN
METHOD:PUBLISH
X-ORIGINAL-URL:https://lgnc.org
X-WR-CALDESC:Events for Lehigh Gap Nature Center
REFRESH-INTERVAL;VALUE=DURATION:PT1H
X-Robots-Tag:noindex
X-PUBLISHED-TTL:PT1H
BEGIN:VTIMEZONE
TZID:America/New_York
BEGIN:DAYLIGHT
TZOFFSETFROM:-0500
TZOFFSETTO:-0400
TZNAME:EDT
DTSTART:20250309T070000
END:DAYLIGHT
BEGIN:STANDARD
TZOFFSETFROM:-0400
TZOFFSETTO:-0500
TZNAME:EST
DTSTART:20251102T060000
END:STANDARD
BEGIN:DAYLIGHT
TZOFFSETFROM:-0500
TZOFFSETTO:-0400
TZNAME:EDT
DTSTART:20260308T070000
END:DAYLIGHT
BEGIN:STANDARD
TZOFFSETFROM:-0400
TZOFFSETTO:-0500
TZNAME:EST
DTSTART:20261101T060000
END:STANDARD
BEGIN:DAYLIGHT
TZOFFSETFROM:-0500
TZOFFSETTO:-0400
TZNAME:EDT
DTSTART:20270314T070000
END:DAYLIGHT
BEGIN:STANDARD
TZOFFSETFROM:-0400
TZOFFSETTO:-0500
TZNAME:EST
DTSTART:20271107T060000
END:STANDARD
END:VTIMEZONE
BEGIN:VEVENT
DTSTART;TZID=America/New_York:20260620T100000
DTEND;TZID=America/New_York:20260620T150000
DTSTAMP:20260423T143038
CREATED:20260416T185713Z
LAST-MODIFIED:20260416T190004Z
UID:10931-1781949600-1781967600@lgnc.org
SUMMARY:Pollinator Day & Native Plant Sale
DESCRIPTION:See you on Saturday\, June 20th for Pollinator Day from 10am-3pm!This year’s theme is all about butterflies! Don’t miss out on our Native Plant Sale\, guided walks\, displays\, local artists\, activities for all ages\, and the Buns on the Go food truck! See you there! 🦋 \nCalling all artists! Submit your artwork now for the Pollinator Day 2026 art exhibition! Artwork must highlight butterflies in celebration of this month’s theme. Spread the word and click the link for more details and to submit your work: https://forms.gle/4qXo4cQ945U61K8x6 🦋 Submissions close on June 12th.
URL:https://lgnc.org/event/pollinator-day-native-plant-sale/
ATTACH;FMTTYPE=image/webp:https://lgnc.org/wp-content/uploads/2026/04/Square-Event-Graphics-2026-04-13T134719.468.webp
END:VEVENT
END:VCALENDAR