BEGIN:VCALENDAR
VERSION:2.0
PRODID:-//Lehigh Gap Nature Center - ECPv6.15.20//NONSGML v1.0//EN
CALSCALE:GREGORIAN
METHOD:PUBLISH
X-WR-CALNAME:Lehigh Gap Nature Center
X-ORIGINAL-URL:https://lgnc.org
X-WR-CALDESC:Events for Lehigh Gap Nature Center
REFRESH-INTERVAL;VALUE=DURATION:PT1H
X-Robots-Tag:noindex
X-PUBLISHED-TTL:PT1H
BEGIN:VTIMEZONE
TZID:America/New_York
BEGIN:DAYLIGHT
TZOFFSETFROM:-0500
TZOFFSETTO:-0400
TZNAME:EDT
DTSTART:20250309T070000
END:DAYLIGHT
BEGIN:STANDARD
TZOFFSETFROM:-0400
TZOFFSETTO:-0500
TZNAME:EST
DTSTART:20251102T060000
END:STANDARD
BEGIN:DAYLIGHT
TZOFFSETFROM:-0500
TZOFFSETTO:-0400
TZNAME:EDT
DTSTART:20260308T070000
END:DAYLIGHT
BEGIN:STANDARD
TZOFFSETFROM:-0400
TZOFFSETTO:-0500
TZNAME:EST
DTSTART:20261101T060000
END:STANDARD
BEGIN:DAYLIGHT
TZOFFSETFROM:-0500
TZOFFSETTO:-0400
TZNAME:EDT
DTSTART:20270314T070000
END:DAYLIGHT
BEGIN:STANDARD
TZOFFSETFROM:-0400
TZOFFSETTO:-0500
TZNAME:EST
DTSTART:20271107T060000
END:STANDARD
END:VTIMEZONE
BEGIN:VEVENT
DTSTART;TZID=America/New_York:20260603T161500
DTEND;TZID=America/New_York:20260603T171500
DTSTAMP:20260423T142955
CREATED:20260402T184705Z
LAST-MODIFIED:20260402T185427Z
UID:10725-1780503300-1780506900@lgnc.org
SUMMARY:Ecology Club for Kids
DESCRIPTION:LGNC’s Ecology Club is open to children ages 9 and older. Join us after school on the first Wednesday of every month for fun\, hands-on nature adventures at the Osprey House and the Lehigh Gap Wildlife Refuge. \nParticipation is FREE to all LGNC members and their families! Not a member? Click here to find out how to join today: https://lgnc.org/join-renew-give/ \nEmail riley.davenport@lgnc.org if you are interested in attending and have questions! \n4:15-5:15pm \n2025-2026 Dates:\nSeptember 3\nOctober 1\nNovember 5\nDecember 3\nJanuary 7\nFebruary 4\nMarch 4\nApril 1\nMay 6\nJune 3
URL:https://lgnc.org/event/ecology-club-for-kids-2/
ATTACH;FMTTYPE=image/jpeg:https://lgnc.org/wp-content/uploads/2026/04/Square-Event-Graphics-3.jpg
END:VEVENT
END:VCALENDAR